BEGIN:VCALENDAR
VERSION:2.0
PRODID:-//Artiz - ECPv6.8.1//NONSGML v1.0//EN
CALSCALE:GREGORIAN
METHOD:PUBLISH
X-WR-CALNAME:Artiz
X-ORIGINAL-URL:https://artiz.ro
X-WR-CALDESC:Events for Artiz
REFRESH-INTERVAL;VALUE=DURATION:PT1H
X-Robots-Tag:noindex
X-PUBLISHED-TTL:PT1H
BEGIN:VTIMEZONE
TZID:UTC
BEGIN:STANDARD
TZOFFSETFROM:+0000
TZOFFSETTO:+0000
TZNAME:UTC
DTSTART:20230101T000000
END:STANDARD
END:VTIMEZONE
BEGIN:VEVENT
DTSTART;VALUE=DATE:20230604
DTEND;VALUE=DATE:20230605
DTSTAMP:20260425T120804
CREATED:20171101T080000Z
LAST-MODIFIED:20231018T222135Z
UID:10805-1685836800-1685923199@artiz.ro
SUMMARY:DRACULA EVENTS
DESCRIPTION:Tur interactiv cu Dracula \n\n	și familia sa în Brașov \n\nPregătește-te să pășești într-un univers plin de mister și suspans\, în care personajele legendare prind viață în atracțiile medievale din Transilvania. \n\n\n	Mai Mult…\n\n\n\n\n\n\n\n\n\n\n\n\n\n\n\n\n\n\n\n\n\n	Dracula Dinner \n\n	Party&Experiences\n\nFii pregătit pentru o noapte fascinantă și plină de farmec\, în care vei savura delicii culinare\, vei explora secretele castelului și vei fi martorul unui spectacol neașteptat.\n\n\n	Mai Mult…\n\n\n\n\n\n\n\n\n\n\n\n\n\n\n\n\n\n\n\n\n\n\n\n\n\n\n\n\n\n\n\n\n\n\n\n\n\n	Tur privat cu Dracula&co \n\n	în Castelul Bran\n\nDescoperă misterul și legendele din spatele Castelului Bran într-un tur privat de excepție cu Dracula și familia sa.\n\n	Mail Mult…\n\n\n\n\n\n\n\n\n\n\n\n\n\n\n\n\n\n\n\n\n\n\n\n\n\n\n	Contactează-ne\nBrașov\, România \n\n  \n\n\n\n\n\n\n\n\n\n Nume\n \n \n Email\n \n \n Telefon\n \n \n Lasă un Mesaj\n \n \n\n Δ
URL:https://artiz.ro/eveniment/dracula-events/
LOCATION:Brașov\, România
CATEGORIES:Program
END:VEVENT
BEGIN:VEVENT
DTSTART;VALUE=DATE:20230715
DTEND;VALUE=DATE:20230722
DTSTAMP:20260425T120804
CREATED:20230502T144509Z
LAST-MODIFIED:20231018T222028Z
UID:15941-1689379200-1689983999@artiz.ro
SUMMARY:DIVERTISMENT
DESCRIPTION:The 7PM Club\n\n	 \n\nFiecare seară de la 7pm este o ocazie unică de a te relaxa\, de a-ți pune abilitățile la încercare și de a cunoaște oameni minunați. \n\n\n	Mai Mult…\n\n\n\n\n\n\n\n\n\n\n\n\n\n\n\n\n\n\n\n\n\n	Speed Dating \n\n	\n\nLasă-te purtat de emoția și entuziasmul unei experiențe memorabile\, în care vei întâlni persoane fascinante\n\n\n	Mai Mult…\n\n\n\n\n\n\n\n\n\n\n\n\n\n\n\n\n\n\n\n\n\n\n\n\n\n\n\n\n\n\n\n\n\n\n\n	Ladies Wine Club\n\n	\n\nDescoperă aromele fine ale vinurilor deosebite și împărtășește momente de veselie și conexiune într-un cadru exclusiv pentru doamne. \n\n	Mail Mult…\n\n\n\n\n\n\n\n\n\n\n\n\n\n\n\n\n\n\n\n\n\n	Game Shows\n\n	\n\nIndiferent dacă ești un strateg priceput sau pur și simplu vrei să te distrezi cu prietenii\, Game Shows îți oferă momente de adrenalină și amuzament garantat.\n\n\n	Mai Mult…\n\n\n\n\n\n\n\n\n\n\n\n\n\n\n\n\n\n\n\n\n\n\n\n\n\n\n\n\n\n\n\n\n\n\n\n	Petreceri și experiențe Tematice\n\n	\n\nFii pregătit să îți explorezi latura artistică\, să dansezi\, să cânți și să te distrezi alături de tematici variate\, transformând momentele în amintiri de neuitat.\n\n	Mail Mult…\n\n\n\n\n\n\n\n\n\n\n\n\n\n\n\n\n\n\n\n\n\n	Show-uri \n\n	\n\nFie că te bucuri de un spectacol de teatru impresionant sau de un show de cabaret cu dansatori seducători\, Artiz îți oferă o experiență artistică unică. \n\n\n	Mai Mult…\n\n\n\n\n\n\n\n\n\n\n\n\n\n\n\n\n\n\n\n\n\n\n\n\n\n\n\n\n\n\n\n\n\n\n\n	Petrecerea Burlăcițelor \n\n	\n\nFie că vă doriți o experiență plină de farmec și eleganță sau un party energic și plin de viață\, Artiz va transforma petrecerea voastră de burlăcițe într-un eveniment memorabil și unic.\n\n	Mail Mult…\n\n\n\n\n\n\n\n\n\n\n\n\n\n\n\n\n\n\n\n\n\n	Baby shower Party \n\n	\n\nMomente pline de emoție și  surprize alături de familie și cei dragi.\n\n\n	Mai Mult…\n\n\n\n\n\n\n\n\n\n\n\n\n\n\n\n\n\n\n\n\n\n\n\n\n\n\n\n\n\n\n\n\n\n\n\n	Contactează-ne\nBrașov\, România \n\n  \n\n\n\n\n\n\n\n\n\n Nume\n \n \n Email\n \n \n Telefon\n \n \n Lasă un Mesaj\n \n \n\n Δ
URL:https://artiz.ro/eveniment/divertisment/
LOCATION:Motion Theater\, 233 Main St\, New York\, United States
CATEGORIES:Program
ORGANIZER;CN="Nick Sims":MAILTO:sims@example.com
END:VEVENT
BEGIN:VEVENT
DTSTART;VALUE=DATE:20230604
DTEND;VALUE=DATE:20230605
DTSTAMP:20260425T120804
CREATED:20170612T000000Z
LAST-MODIFIED:20260401T125720Z
UID:10801-1685836800-1685923199@artiz.ro
SUMMARY:TEAM BUILDING
DESCRIPTION:ARTIZ Team Building – experiențe moderne de dezvoltare personală și profesională prin teatru și jocuri interactive!  \nSuntem dedicați să aducem abilitățile secolului XXI în cadrul companiilor prin ateliere de dezvoltare personală și autocunoaștere prin teatru\, atât în limba română\, cât și în limba engleză\, atât în format online\, cât și offline. \n\n\n	\n\n\n\n\n\n\n\n\n\n\n\n\n\n\n\n\n\n\n\n\n\n	 \n\n	\n\nCe înseamnă ARTIZ Team Building? \nÎmbinăm creativitatea teatrală cu experiențele interactive pentru a ghida angajații într-o călătorie practică de dezvoltare a competențelor esențiale. \nPrin atelierele noastre de teatru\, abordăm subiecte precum încrederea în sine\, public speaking\, controlul emoțiilor\, aptitudinile socio-comunicaționale și munca în echipă în companie.\n\n\n	\n\n\n\n\n\n\n\n\n\n\n\n\n\n\n\n\n\n\n\n\n\n\n\n\n\n\n\n\n\n\n\n\n\n\n\n	\n\n	\n\nScopul este de a îmbunătăți performanțele\, randamentul și comunicarea angajaților în online si offline\, prin dezvoltarea unor competențe cheie:\n-Încredere în sine\n-Public speaking\n-Controlul emoțiilor\n-Aptitudini socio-comunicaționale\n-Munca în echipă în companie\n-Atenție concentrată și distributivă\n-Managementul conflictului\n\n	\n\n\n\n\n\n\n\n\n\n\n\n\n\n\n\n\n\n\n\n\n\n	\n\n	\n\nRezultatele obținute pentru tine și echipa ta:\nTeam work – deprinderea abilităților necesare pentru a lucra eficient în echipă: flexibilitate\, adaptabilitate în fața provocărilor\, înțelegerea punctelor diferite de vedere etc.\nSelf-empowerment – învățăm care sunt punctele noastre forte\, punctele slabe\, cum să maximizăm raportul efort/rezultate etc.\n  \n\n\n	\n\n\n\n\n\n\n\n\n\n\n\n\n\n\n\n\n\n\n\n\n\n\n\n\n\n\n\n\n\n\n\n\n\n\n\n	 \n\n	\n\nPositive mindset – un factor esențial pentru găsirea celor mai bune și eficiente soluții în business și viața personală.\nEmotional intelligence and time management – dobândirea autocontrolului în plan emoțional și capacitatea de a organiza eficient timpul și activitățile.\n\n	\n\n\n\n\n\n\n\n\n\n\n\n\n\n\n\n\n\n\n\n\n\n	\n\n	\n\nÎn echipa ARTIZ\, suntem dornici să vă susținem în obținerea unui mediu de lucru mai productiv\, creativ și armonios. Contactați-ne și împreună vom crea experiențe de neuitat pentru echipa ta.\n\n\n	\n\n\n\n\n\n\n\n\n\n\n\n\n\n\n\n\n\n\n\n\n\n\n\n\n\n\n\n\n\n\n\n	Contactează-ne\nBrașov\, România \n\n  \n\n\n\n\n\n\n\n\n\n Nume\n \n \n Email\n \n \n Telefon\n \n \n Lasă un Mesaj\n \n \n\n Δ
URL:https://artiz.ro/eveniment/team-building/
LOCATION:Brașov\, România
CATEGORIES:Cursuri Teatru și Improvizație
END:VEVENT
BEGIN:VEVENT
DTSTART;VALUE=DATE:20230709
DTEND;VALUE=DATE:20230710
DTSTAMP:20260425T120804
CREATED:20230605T090000Z
LAST-MODIFIED:20240902T083033Z
UID:10800-1688860800-1688947199@artiz.ro
SUMMARY:SPEED DATING
DESCRIPTION:Lasă-te purtat de valul întâlnirilor rapide – Speed Dating\, unde romantismul prinde viteză!  Te așteptăm la Velo Coffee – Brașov\, pentru a avea o seară memorabilă și plină de oportunități de a cunoaște oameni noi.  \nCe înseamnă Speed Dating-ul? \nEste șansa ta de a interacționa față în față cu alți participanți într-un mediu  distractiv\, de a socializa  și de a crea noi conexiuni. Cine știe\, poate chiar îți vei găsi jumătatea!\n \n\n\n	\n\n\n\n\n\n\n\n\n\n\n\n\n\n\n\n\n\n\n\n\n\n	 \n\n	\n\nEvenimentul este deschis femeilor și bărbaților cu vârste cuprinse între 25 și 50 de ani\, oferind oportunitatea de a întâlni potențiali parteneri de viață în aceeași plajă de vârstă.  \nDesfășurarea serii de Speed Dating constă într-o serie de probe interesante și interactive. Ce câștigi dacă vii la Speed Dating: \n\n\n	\n\n\n\n\n\n\n\n\n\n\n\n\n\n\n\n\n\n\n\n\n\n\n\n\n\n\n\n\n\n\n\n\n\n\n\n	\n\n	\n\nOportunitatea de a cunoaște oameni noi: Speed Dating-ul îți oferă șansa de a întâlni și interacționa cu mai mulți participanți într-un timp scurt. Astfel\, vei avea acces la un număr mai mare de potențiali parteneri și vei putea explora mai multe conexiuni într-o singură seară. \n\nInteracțiuni autentice și în persoană: Față în față\, într-un mediu sigur și distractiv\, vei putea comunica direct cu ceilalți participanți. Acest tip de interacțiune ajută la o cunoaștere mai profundă și autentică\, permițându-ți să descoperi compatibilități și chimii în timp real.\n \n\n	\n\n\n\n\n\n\n\n\n\n\n\n\n\n\n\n\n\n\n\n\n\n	\n\n	\n\nAtmosferă fără presiune: Speed Dating-ul îți oferă un cadru relaxat și fără presiune\, în care poți să fii tu însuți și să te bucuri de experiență. Nu există așteptări rigide sau presiuni\, ci doar oportunitatea de a te conecta și de a explora conexiuni într-un mod lejer și plin de entuziasm. \n\nProbe interactive și distractive: În cadrul evenimentului nostru de Speed Dating\, vei avea parte de diferite probe care îți vor facilita interacțiunea cu ceilalți participanți. Jocurile și exercițiile vor ajuta la spargerea gheții și la identificarea intereselor și valorilor comune\, oferindu-ți un punct de plecare pentru conversații captivante. \n\n\n	\n\n\n\n\n\n\n\n\n\n\n\n\n\n\n\n\n\n\n\n\n\n\n\n\n\n\n\n\n\n\n\n\n\n\n\n	 \n\n	\n\nExperiență organizată de calitate: Evenimentul nostru de Speed Dating este organizat de o gazdă cu experiență în domeniul socializării și Speed Dating-ului. Astfel\, te vei bucura de o seară bine structurată\, plină de surprize și de o ambianță prietenoasă. \n\nPosibilitatea de a-ți extinde cercul social: Speed Dating-ul este nu doar despre găsirea unui potențial partener romantic\, ci și despre extinderea cercului tău social. Vei avea ocazia să cunoști oameni noi\, să-ți faci prieteni și să te conectezi cu persoane care împărtășesc interese și pasiuni comune.\n \n\n	\n\n\n\n\n\n\n\n\n\n\n\n\n\n\n\n\n\n\n\n\n\n	 \n\n	\n\nȚi-am trezit curiozitatea? Acum\, haide să vedem și cum se desfășoară:\nProba 1 – Speed Bingo: Un joc interactiv care te va ajuta să spargi gheața și să începi interacțiunea cu ceilalți participanți.\nProba 2 – Would you rather: Un exercițiu menit să te ajute să găsești preferințe\, gusturi\, idei și valori comune cu una sau mai multe persoane.\n \n\n\n	\n\n\n\n\n\n\n\n\n\n\n\n\n\n\n\n\n\n\n\n\n\n\n\n\n\n\n\n\n\n\n\n\n\n\n\n	\n\n	\n\nProba 3 – Speed Dating: Așa cum ai văzut în filmele americane\, vei avea întâlniri rapide cu ceilalți participanți. Aceste întâlniri vor avea loc într-un sistem bine stabilit de rotație\, unde fiecare participantă va sta la o masă și fiecare participant va vizita\, rând pe rând\, fiecare masă. Într-o perioadă scurtă de timp\, vei avea oportunitatea de a cunoaște mai multe persoane single și de a stabili conexiuni autentice.\nProba 4 – Free mingling time: După probele structurate\, vei avea timp liber pentru a socializa și a interacționa cu ceilalți participanți. \n\n	\n\n\n\n\n\n\n\n\n\n\n\n\n\n\n\n\n\n\n\n\n\n	\n\n	\n\nTe așteptăm cu nerăbdare să te alături acestui eveniment exclusivist. Nu rata oportunitatea de a-ți găsi potențialul partener într-o atmosferă plină de energie și conexiuni reale! Fii pregătit să-ți extinzi cercul social și să formezi noi conexiuni într-un mod captivant și distractiv la evenimentul nostru de Speed Dating!\nParticiparea la Speed Dating se face în urma alegerii făcute de echipa ARTIZ!\n \n\n\n	\n\n\n\n\n\n\n\n\n\n\n\n\n\n\n\n\n\n\n\n\n\n\n\n\n[cmsmasters_tc_event_tickets shortcode_id=”2zuw4n9frh” event=”17567″ link=”Adaugă în Coș” type=”Tip Tickete” price=”Preț” cart=”Coș Tickete” quantity=”Qty.” soldout=”Stoc indisponibil.” show_quantity=”true” link_type=”cart” animation_delay=”0″] \n\n\n\n\n\n\n\n\n\n\n\n\n\n\n\n\n\n\n\n	Contactează-ne\nBrașov\, România \n\n  \n\n\n\n\n\n\n\n\n\n Nume\n \n \n Email\n \n \n Telefon\n \n \n Lasă un Mesaj\n \n \n\n Δ
URL:https://artiz.ro/eveniment/speed-dating/
LOCATION:Brașov\, România
CATEGORIES:Divertisment
END:VEVENT
END:VCALENDAR