BEGIN:VCALENDAR
VERSION:2.0
PRODID:-//Artiz - ECPv6.8.1//NONSGML v1.0//EN
CALSCALE:GREGORIAN
METHOD:PUBLISH
X-WR-CALNAME:Artiz
X-ORIGINAL-URL:https://artiz.ro
X-WR-CALDESC:Events for Artiz
REFRESH-INTERVAL;VALUE=DURATION:PT1H
X-Robots-Tag:noindex
X-PUBLISHED-TTL:PT1H
BEGIN:VTIMEZONE
TZID:UTC
BEGIN:STANDARD
TZOFFSETFROM:+0000
TZOFFSETTO:+0000
TZNAME:UTC
DTSTART:20230101T000000
END:STANDARD
END:VTIMEZONE
BEGIN:VEVENT
DTSTART;VALUE=DATE:20230709
DTEND;VALUE=DATE:20230710
DTSTAMP:20260425T134443
CREATED:20230605T090000Z
LAST-MODIFIED:20240902T083033Z
UID:10800-1688860800-1688947199@artiz.ro
SUMMARY:SPEED DATING
DESCRIPTION:Lasă-te purtat de valul întâlnirilor rapide – Speed Dating\, unde romantismul prinde viteză!  Te așteptăm la Velo Coffee – Brașov\, pentru a avea o seară memorabilă și plină de oportunități de a cunoaște oameni noi.  \nCe înseamnă Speed Dating-ul? \nEste șansa ta de a interacționa față în față cu alți participanți într-un mediu  distractiv\, de a socializa  și de a crea noi conexiuni. Cine știe\, poate chiar îți vei găsi jumătatea!\n \n\n\n	\n\n\n\n\n\n\n\n\n\n\n\n\n\n\n\n\n\n\n\n\n\n	 \n\n	\n\nEvenimentul este deschis femeilor și bărbaților cu vârste cuprinse între 25 și 50 de ani\, oferind oportunitatea de a întâlni potențiali parteneri de viață în aceeași plajă de vârstă.  \nDesfășurarea serii de Speed Dating constă într-o serie de probe interesante și interactive. Ce câștigi dacă vii la Speed Dating: \n\n\n	\n\n\n\n\n\n\n\n\n\n\n\n\n\n\n\n\n\n\n\n\n\n\n\n\n\n\n\n\n\n\n\n\n\n\n\n	\n\n	\n\nOportunitatea de a cunoaște oameni noi: Speed Dating-ul îți oferă șansa de a întâlni și interacționa cu mai mulți participanți într-un timp scurt. Astfel\, vei avea acces la un număr mai mare de potențiali parteneri și vei putea explora mai multe conexiuni într-o singură seară. \n\nInteracțiuni autentice și în persoană: Față în față\, într-un mediu sigur și distractiv\, vei putea comunica direct cu ceilalți participanți. Acest tip de interacțiune ajută la o cunoaștere mai profundă și autentică\, permițându-ți să descoperi compatibilități și chimii în timp real.\n \n\n	\n\n\n\n\n\n\n\n\n\n\n\n\n\n\n\n\n\n\n\n\n\n	\n\n	\n\nAtmosferă fără presiune: Speed Dating-ul îți oferă un cadru relaxat și fără presiune\, în care poți să fii tu însuți și să te bucuri de experiență. Nu există așteptări rigide sau presiuni\, ci doar oportunitatea de a te conecta și de a explora conexiuni într-un mod lejer și plin de entuziasm. \n\nProbe interactive și distractive: În cadrul evenimentului nostru de Speed Dating\, vei avea parte de diferite probe care îți vor facilita interacțiunea cu ceilalți participanți. Jocurile și exercițiile vor ajuta la spargerea gheții și la identificarea intereselor și valorilor comune\, oferindu-ți un punct de plecare pentru conversații captivante. \n\n\n	\n\n\n\n\n\n\n\n\n\n\n\n\n\n\n\n\n\n\n\n\n\n\n\n\n\n\n\n\n\n\n\n\n\n\n\n	 \n\n	\n\nExperiență organizată de calitate: Evenimentul nostru de Speed Dating este organizat de o gazdă cu experiență în domeniul socializării și Speed Dating-ului. Astfel\, te vei bucura de o seară bine structurată\, plină de surprize și de o ambianță prietenoasă. \n\nPosibilitatea de a-ți extinde cercul social: Speed Dating-ul este nu doar despre găsirea unui potențial partener romantic\, ci și despre extinderea cercului tău social. Vei avea ocazia să cunoști oameni noi\, să-ți faci prieteni și să te conectezi cu persoane care împărtășesc interese și pasiuni comune.\n \n\n	\n\n\n\n\n\n\n\n\n\n\n\n\n\n\n\n\n\n\n\n\n\n	 \n\n	\n\nȚi-am trezit curiozitatea? Acum\, haide să vedem și cum se desfășoară:\nProba 1 – Speed Bingo: Un joc interactiv care te va ajuta să spargi gheața și să începi interacțiunea cu ceilalți participanți.\nProba 2 – Would you rather: Un exercițiu menit să te ajute să găsești preferințe\, gusturi\, idei și valori comune cu una sau mai multe persoane.\n \n\n\n	\n\n\n\n\n\n\n\n\n\n\n\n\n\n\n\n\n\n\n\n\n\n\n\n\n\n\n\n\n\n\n\n\n\n\n\n	\n\n	\n\nProba 3 – Speed Dating: Așa cum ai văzut în filmele americane\, vei avea întâlniri rapide cu ceilalți participanți. Aceste întâlniri vor avea loc într-un sistem bine stabilit de rotație\, unde fiecare participantă va sta la o masă și fiecare participant va vizita\, rând pe rând\, fiecare masă. Într-o perioadă scurtă de timp\, vei avea oportunitatea de a cunoaște mai multe persoane single și de a stabili conexiuni autentice.\nProba 4 – Free mingling time: După probele structurate\, vei avea timp liber pentru a socializa și a interacționa cu ceilalți participanți. \n\n	\n\n\n\n\n\n\n\n\n\n\n\n\n\n\n\n\n\n\n\n\n\n	\n\n	\n\nTe așteptăm cu nerăbdare să te alături acestui eveniment exclusivist. Nu rata oportunitatea de a-ți găsi potențialul partener într-o atmosferă plină de energie și conexiuni reale! Fii pregătit să-ți extinzi cercul social și să formezi noi conexiuni într-un mod captivant și distractiv la evenimentul nostru de Speed Dating!\nParticiparea la Speed Dating se face în urma alegerii făcute de echipa ARTIZ!\n \n\n\n	\n\n\n\n\n\n\n\n\n\n\n\n\n\n\n\n\n\n\n\n\n\n\n\n\n[cmsmasters_tc_event_tickets shortcode_id=”2zuw4n9frh” event=”17567″ link=”Adaugă în Coș” type=”Tip Tickete” price=”Preț” cart=”Coș Tickete” quantity=”Qty.” soldout=”Stoc indisponibil.” show_quantity=”true” link_type=”cart” animation_delay=”0″] \n\n\n\n\n\n\n\n\n\n\n\n\n\n\n\n\n\n\n\n	Contactează-ne\nBrașov\, România \n\n  \n\n\n\n\n\n\n\n\n\n Nume\n \n \n Email\n \n \n Telefon\n \n \n Lasă un Mesaj\n \n \n\n Δ
URL:https://artiz.ro/eveniment/speed-dating/
LOCATION:Brașov\, România
CATEGORIES:Divertisment
END:VEVENT
BEGIN:VEVENT
DTSTART;VALUE=DATE:20230907
DTEND;VALUE=DATE:20230908
DTSTAMP:20260425T134443
CREATED:20230629T000000Z
LAST-MODIFIED:20231105T185509Z
UID:10803-1694044800-1694131199@artiz.ro
SUMMARY:THE 7PM CLUB
DESCRIPTION:În fiecare joi seara\, clubul nostru devine un loc special și animat\, unde prietenii se întâlnesc\, distracția prinde contur și comunitatea devine o familie. De la începători la profesioniști\, de la pasionați de artă la cei în căutarea de aventuri noi\, toți sunt bineveniți să se alăture în această călătorie captivantă. \nÎn cadrul The 7pm Club\, vei găsi un spectru larg de activități creative și artistice care îți vor încânta sufletul și îți vor alimenta pasiunile. \n\n\n	\n\n\n\n\n\n\n\n\n\n\n\n\n\n\n\n\n\n\n\n\n\n	 \n\n	\n\nCe câștigi dacă vii: \nExperiențe inedite – Cu seri tematice captivante\, activități creative și artistice\, dezbateri interesante\, competiții amicale de trivia și experiențe de improvizație. Ne asigurăm că fiecare participant se bucură de momente memorabile și distractive într-un mediu prietenos și energizant. \n\n\n	\n\n\n\n\n\n\n\n\n\n\n\n\n\n\n\n\n\n\n\n\n\n\n\n\n\n\n\n\n\n\n\n\n\n\n\n	\n\n	\n\nInteracțiune și conexiune – Prin participarea la The 7pm Club\, ai șansa de a te întâlni și te conecta cu alți participanți\, dezvoltând relații sociale și formând legături în cadrul comunității. \n Dezvoltare intelectuală – Prin dezbaterile stimulante și provocatoare\, îți poți extinde cunoștințele\, dezvolta gândirea critică și ai ocazia de a explora subiecte interesante și relevante. \n\n	\n\n\n\n\n\n\n\n\n\n\n\n\n\n\n\n\n\n\n\n\n\n	\n\n	\n\nDistracție și competiție amicală – Participarea la activitățile de trivia îți oferă oportunitatea de a te distra și de a-ți testa cunoștințele generale într-un mod prietenos și competitiv. \n\n\n	\n\n\n\n\n\n\n\n\n\n\n\n\n\n\n\n\n\n\n\n\n\n\n\n\n\n\n\n\n\n\n\n\n\n\n\n	 \n\n	\n\nExprimarea creativității – Prin improvizație și jocurile de rol\, ai libertatea de a-ți exprima creativitatea și de a-ți dezvolta abilitățile de colaborare\, comunicare și adaptabilitate. \n\n	\n\n\n\n\n\n\n\n\n\n\n\n\n\n\n\n\n\n\n\n\n\n	 \n\n	\n\nApartenența la o comunitate faină și închegată – Devii o parte dintr-o comunitate diversă și complementară\, având oportunitatea de a întâlni oameni noi și de a împărtăși pasiuni și interese comune. \n\n\n	\n\n\n\n\n\n\n\n\n\n\n\n\n\n\n\n\n\n\n\n\n\n\n\n\n\n\n\n\n\n\n\n\n\n\n\n	\n\n	\n\nAmintiri de neuitat – Participarea la evenimentele și activitățile din cadrul The 7pm Club creează momente pe care ți le vei aminti mereu\, oferindu-ți serate speciale și pline de satisfacție. \n\n	\n\n\n\n\n\n\n\n\n\n\n\n\n\n\n\n\n\n\n\n\n\n	\n\n	\n\nAșadar\, vino să ne întâlnim la The 7pm Club\,  în fiecare joi seară în Brașov și să transformăm acest moment magic într-o experiență socială și de divertisment autentică. În acest club special\, vei găsi bucurie\, creativitate și conexiuni care vor dura o viață întreagă. The 7pm Club te așteaptă cu brațele deschise\, pregătit să-ți ofere cele mai frumoase serate! \n\n\n	\n\n\n\n\n\n\n\n\n\n\n\n\n\n\n\n\n\n\n\n\n\n\n\n\n\n\n			 \n			\n				\n					\n						\n							\n						\n						\n							\n						\n						\n							\n						\n						\n							\n						\n						\n							\n						\n						\n							\n						\n						\n							\n						\n						\n							\n						\n						\n							\n						\n						\n							\n						\n						\n							\n						\n						\n							\n						\n						\n							\n						\n						\n							\n						\n						\n							\n						\n						\n							\n						\n						\n							\n						\n						\n							\n						\n						\n							\n						\n					\n				\n				\n			\n			\n\n\nhttps://artiz.ro/wp-content/uploads/2023/10/videoartiz.mp4\n\n[cmsmasters_tc_event_tickets shortcode_id=”ok454drki” event=”15321″ link=”Adaugă în Coș” type=”Tip Tickete” price=”Preț” cart=”Coș Tickete” quantity=”Qty.” soldout=”Stoc indisponibil.” show_quantity=”true” link_type=”cart” animation_delay=”0″] \n\n\n\n\n\n\n\n\n\n\n\n\n\n\n\n\n\n\n\n	Contactează-ne\nBrașov\, România \n\n  \n\n\n\n\n\n\n\n\n\n Nume\n \n \n Email\n \n \n Telefon\n \n \n Lasă un Mesaj\n \n \n\n Δ \n\n\n\n\n\n\n\n\n\n\n\n\n\n\n\n\n\n\n\n\n\n\n\n\n\nProgram:\n\nÎn fiecare Joi la ora 19:00. \n\n\n\n\n\n\n\n\n\n\n\n\nOrganizator\n\nARTIZ \n\n\n\n\n\n\n\n\n\n\n\n\nLocația:\n\nBrașov\, România
URL:https://artiz.ro/eveniment/the-7pm-club/
CATEGORIES:Divertisment
END:VEVENT
BEGIN:VEVENT
DTSTART;VALUE=DATE:20230907
DTEND;VALUE=DATE:20230908
DTSTAMP:20260425T134443
CREATED:20231011T131025Z
LAST-MODIFIED:20240905T132105Z
UID:17463-1694044800-1694131199@artiz.ro
SUMMARY:Piesă Teatru
DESCRIPTION:Ea – nebună\nEl – nebun dupa ea\nO piesă explozivă\, la propriu! \nPiesa “Ce vine după…” de Mihai Ignat\, continuă\, într-un fel\, poveștile de cuplu din “Crize” piesa care l-a consacrat pe autor ca pe unul dintre cei mai mari autori contemporani. “Crize” a primit premiul BBC și Uniter pentru cea mai bună piesă\, fiind cea mai jucată piesă de Mihai Ignat. \n“Ce vine după…” este împărțită în patru tablouri\, iar umorul de situație este fin și replicile au o prospețime debordantă\, frizând uneori absurdul în stilul filmelor lui Woody Allen. \nCe câștigi dacă vii: \nActorii din distribuție și-au pus în valoare fiecare nuanță punând cu umor și naturalețe amprenta personală. Regia deși pare\, la prima vedere\, minimalistă este încărcată de simboluri\, coloana sonoră bine aleasă (regizorul fiind și student la Conservator anul trei) muzica vine în ajutorul textului\, sugerând și anticipând ce va urma. Surpriza vine la premieră când prima parte muzicală va fi cântată live. \nVă așteptăm la un spectacol inedit\, fin\, care vă va face să vă gândiți după vizionare\, care este rolul vostru în cuplu și dacă reușiți să vă ridicați la așteptările partenerului. Un spectacol despre iubire\, singurătate și dezamăgiri. \n\n\n\n\n\n\n\n\n\n\n\n\n\n\n\n\n\n\n\n\n\n\n\n	Contactează-ne\nBrașov\, România \n\n  \n\n\n\n\n\n\n\n\n\n Nume\n \n \n Email\n \n \n Telefon\n \n \n Lasă un Mesaj\n \n \n\n Δ
URL:https://artiz.ro/eveniment/piesa-teatru/
CATEGORIES:Divertisment
END:VEVENT
BEGIN:VEVENT
DTSTART;VALUE=DATE:20240902
DTEND;VALUE=DATE:20240903
DTSTAMP:20260425T134443
CREATED:20240902T092846Z
LAST-MODIFIED:20240905T131700Z
UID:17707-1725235200-1725321599@artiz.ro
SUMMARY:La Femme Fatale
DESCRIPTION:  \n \nVrei să înveți să îți accesezi mai ușor energia feminină? Să descoperi cum poți să fii mai senzuală\, mai blandă și mai atractivă?\nFiecare femeie are toate datele necesare pentru a fi feminină\, doar că uneori avem nevoie să ne retrezim acele simțuri deja existente. Viața contidiană și secolul vitezei ne-au încurajat să fim puternice și apte pentru fiecare provocare zilnică. Am demonstrat că putem\, iar acum a venit momentul să alegem să fim ceea ce suntem cu adevărat – feminine. \n🌸 Cui i se adresează acest curs?\nFie că ești single\, căsătorită\, iesită dintr-o relație\, divorțată sau într-o perioada mai complicată – acest curs este pentru femeia din tine!\n🌸 Ce vom face?\nCursul este împărțit în 4 sesiuni practice\, imersive și active a câte 2h fiecare în intervalul 19:00-21:00 luni seară în centrul Brașovului. \n11.03 – Cum ne simțim și cum ne arătăm feminine? Conexiunea minte-corp\, atelier de atracție.\n18.03 – Cum ne purtăm în societate? Bunele maniere\, flirt\, elganță și stil.\n25.03 – Cum îți expui latura senzuală? La femme fatale\, dans și floorwork.\n01.04 – Cum acceptăm provocările vieții prin energia feminină? Femeia care știe ce vrea și ce poate\, atelier de încredere în sine și gestiunea emoțiilor. \nOpțional – o sesiune pe care o vom alege împreună și vom pune în practică ce am învățat la curs. Unde? Prin oraș\, în lumea reală\, înafara sălii de curs.\n🌸 Ce ai de câștigat?\n– Redescoperi feminitatea din tine\n– Îți sporești încrederea în sine pentru a fi irezistibilă\n– Înveți diferențele de comunicare dintre energia feminină și masculină\n– Tehnici de persuasiune\n– Senzualitate prin dans și floorwork\n– Acceptarea corpului\n– Îți oferi șansă de a redeveni fericită\n– Exerciții și tehnici de introspecție inspirate din arta teatrală&improv\n– Înveți să radiezi și să îți expui latura feminină\n– Înveți cum să te pui în valoare ca și femeie \nLocație: Golden Spiral Center str. Michael Weiss nr. 39\, Brașov \n🎟 Entry: 120 RON/sesiune sau 399 RON/curs integral – acces la toate cele 4 sesiuni \nTe încurajez să faci acest pas și împreună să devenim cea mai armonioasă varianta feminină a noastră! \nCompletează formularul de înscriere chiar acum: https://forms.gle/A3jDqYs6qw7gPEAu7 \nDespre trainer:\nIza Florina Porumbu este actriță\, regizor și producător de teatru și film\, cu o experiență de peste 13 ani. Trainer de autocunoaștere și dezvoltare personală prin teatru din 2017 și Artist Manager al companiei ARTIZ din 2018. Absolventă a Facultății de Teatru „London Metropolitan” și a cursurilor „Bilingual Acting Workshops” din Paris\, performer și workshop leader „Arezzo Theater Festival” din Italia. Este licențiată în arta cabaretului\, practicantă de floorwork și exotic.\nIza a dezvoltat o metodă unică de predare – metodă ARTIZ – care include tehnici\, jocuri\, metode și exerciții teatrale învățate de la diverși practicioneri străini și adaptate pentru a dezvoltă skill-uri utile în viață personală și profesională. \n\n\n\n\n\n\n\n\n\n\n\n\n\n\n\n\n\n\n\n\n	Contactează-ne\nBrașov\, România \n\n  \n\n\n\n\n\n\n\n\n\n Nume\n \n \n Email\n \n \n Telefon\n \n \n Lasă un Mesaj\n \n \n\n Δ
URL:https://artiz.ro/eveniment/la-femme-fatale/
CATEGORIES:Cursuri Teatru și Improvizație
END:VEVENT
BEGIN:VEVENT
DTSTART;TZID=UTC:20240902T080000
DTEND;TZID=UTC:20240902T170000
DTSTAMP:20260425T134443
CREATED:20240902T094413Z
LAST-MODIFIED:20240905T130638Z
UID:17718-1725264000-1725296400@artiz.ro
SUMMARY:The Pole
DESCRIPTION:  \n \nAvem o premieră în țară\, fix aici\, la Brașov! \nSâmbătă\, 23 martie\, 19:00 la Cinema Modern\nBulevardul Griviței 65\, Brașov 500198 \nAi văzut vreodată un documentar artistic despre Pole Dance? Acum este șansa ta! \n„The Pole” este un film documentar care explorează poveștile și provocările cu care se confruntă patru dansatoare din Romania și Ucraina în Transilvania. Documentarul artistic „The Pole” este o productie independentă marca ARTIZ in colaborare cu Pole Dance Brasov și Omul cu Camera. \nÎn prezent filmul este în competiția\nfestivalului internațional de film ‘Porto Femme’ din Portugalia. \nPremiera va include un show live de pole dance și un Q&A with the cast&crew. \nEvenimentul este pentru persoanele cu vârsta minimă de 16 ani. \nProduction: ARTIZ\nScreenplay&Story: Iza Porumbu\nDirected by Marius Stoica\nCo-executive producer&DOP: Daniel Toma\nProduction in association with Pole Dance Hub Brasov\nCast: Iza Porumbu\, Luana\, Kate\, Denisa\, Andreea \n🎟 Bilete: https://www.iabilet.ro/bilete-brasov-premiera-filmului-documentar-the-pole-artiz-96426/ \n\n\n\n\n\n\n\n\n\n\n\n\n\n\n\n\n\n\n\n\n	Contactează-ne\nBrașov\, România \n\n  \n\n\n\n\n\n\n\n\n\n Nume\n \n \n Email\n \n \n Telefon\n \n \n Lasă un Mesaj\n \n \n\n Δ
URL:https://artiz.ro/eveniment/the-pole/
CATEGORIES:Divertisment
END:VEVENT
END:VCALENDAR