BEGIN:VCALENDAR
VERSION:2.0
PRODID:-//Artiz - ECPv6.8.1//NONSGML v1.0//EN
CALSCALE:GREGORIAN
METHOD:PUBLISH
X-ORIGINAL-URL:https://artiz.ro
X-WR-CALDESC:Events for Artiz
REFRESH-INTERVAL;VALUE=DURATION:PT1H
X-Robots-Tag:noindex
X-PUBLISHED-TTL:PT1H
BEGIN:VTIMEZONE
TZID:UTC
BEGIN:STANDARD
TZOFFSETFROM:+0000
TZOFFSETTO:+0000
TZNAME:UTC
DTSTART:20230101T000000
END:STANDARD
END:VTIMEZONE
BEGIN:VEVENT
DTSTART;VALUE=DATE:20240902
DTEND;VALUE=DATE:20240903
DTSTAMP:20260421T131226
CREATED:20240902T092846Z
LAST-MODIFIED:20240905T131700Z
UID:17707-1725235200-1725321599@artiz.ro
SUMMARY:La Femme Fatale
DESCRIPTION:  \n \nVrei să înveți să îți accesezi mai ușor energia feminină? Să descoperi cum poți să fii mai senzuală\, mai blandă și mai atractivă?\nFiecare femeie are toate datele necesare pentru a fi feminină\, doar că uneori avem nevoie să ne retrezim acele simțuri deja existente. Viața contidiană și secolul vitezei ne-au încurajat să fim puternice și apte pentru fiecare provocare zilnică. Am demonstrat că putem\, iar acum a venit momentul să alegem să fim ceea ce suntem cu adevărat – feminine. \n🌸 Cui i se adresează acest curs?\nFie că ești single\, căsătorită\, iesită dintr-o relație\, divorțată sau într-o perioada mai complicată – acest curs este pentru femeia din tine!\n🌸 Ce vom face?\nCursul este împărțit în 4 sesiuni practice\, imersive și active a câte 2h fiecare în intervalul 19:00-21:00 luni seară în centrul Brașovului. \n11.03 – Cum ne simțim și cum ne arătăm feminine? Conexiunea minte-corp\, atelier de atracție.\n18.03 – Cum ne purtăm în societate? Bunele maniere\, flirt\, elganță și stil.\n25.03 – Cum îți expui latura senzuală? La femme fatale\, dans și floorwork.\n01.04 – Cum acceptăm provocările vieții prin energia feminină? Femeia care știe ce vrea și ce poate\, atelier de încredere în sine și gestiunea emoțiilor. \nOpțional – o sesiune pe care o vom alege împreună și vom pune în practică ce am învățat la curs. Unde? Prin oraș\, în lumea reală\, înafara sălii de curs.\n🌸 Ce ai de câștigat?\n– Redescoperi feminitatea din tine\n– Îți sporești încrederea în sine pentru a fi irezistibilă\n– Înveți diferențele de comunicare dintre energia feminină și masculină\n– Tehnici de persuasiune\n– Senzualitate prin dans și floorwork\n– Acceptarea corpului\n– Îți oferi șansă de a redeveni fericită\n– Exerciții și tehnici de introspecție inspirate din arta teatrală&improv\n– Înveți să radiezi și să îți expui latura feminină\n– Înveți cum să te pui în valoare ca și femeie \nLocație: Golden Spiral Center str. Michael Weiss nr. 39\, Brașov \n🎟 Entry: 120 RON/sesiune sau 399 RON/curs integral – acces la toate cele 4 sesiuni \nTe încurajez să faci acest pas și împreună să devenim cea mai armonioasă varianta feminină a noastră! \nCompletează formularul de înscriere chiar acum: https://forms.gle/A3jDqYs6qw7gPEAu7 \nDespre trainer:\nIza Florina Porumbu este actriță\, regizor și producător de teatru și film\, cu o experiență de peste 13 ani. Trainer de autocunoaștere și dezvoltare personală prin teatru din 2017 și Artist Manager al companiei ARTIZ din 2018. Absolventă a Facultății de Teatru „London Metropolitan” și a cursurilor „Bilingual Acting Workshops” din Paris\, performer și workshop leader „Arezzo Theater Festival” din Italia. Este licențiată în arta cabaretului\, practicantă de floorwork și exotic.\nIza a dezvoltat o metodă unică de predare – metodă ARTIZ – care include tehnici\, jocuri\, metode și exerciții teatrale învățate de la diverși practicioneri străini și adaptate pentru a dezvoltă skill-uri utile în viață personală și profesională. \n\n\n\n\n\n\n\n\n\n\n\n\n\n\n\n\n\n\n\n\n	Contactează-ne\nBrașov\, România \n\n  \n\n\n\n\n\n\n\n\n\n Nume\n \n \n Email\n \n \n Telefon\n \n \n Lasă un Mesaj\n \n \n\n Δ
URL:https://artiz.ro/eveniment/la-femme-fatale/
CATEGORIES:Cursuri Teatru și Improvizație
END:VEVENT
BEGIN:VEVENT
DTSTART;VALUE=DATE:20230604
DTEND;VALUE=DATE:20230605
DTSTAMP:20260421T131226
CREATED:20170612T000000Z
LAST-MODIFIED:20260401T125720Z
UID:10801-1685836800-1685923199@artiz.ro
SUMMARY:TEAM BUILDING
DESCRIPTION:ARTIZ Team Building – experiențe moderne de dezvoltare personală și profesională prin teatru și jocuri interactive!  \nSuntem dedicați să aducem abilitățile secolului XXI în cadrul companiilor prin ateliere de dezvoltare personală și autocunoaștere prin teatru\, atât în limba română\, cât și în limba engleză\, atât în format online\, cât și offline. \n\n\n	\n\n\n\n\n\n\n\n\n\n\n\n\n\n\n\n\n\n\n\n\n\n	 \n\n	\n\nCe înseamnă ARTIZ Team Building? \nÎmbinăm creativitatea teatrală cu experiențele interactive pentru a ghida angajații într-o călătorie practică de dezvoltare a competențelor esențiale. \nPrin atelierele noastre de teatru\, abordăm subiecte precum încrederea în sine\, public speaking\, controlul emoțiilor\, aptitudinile socio-comunicaționale și munca în echipă în companie.\n\n\n	\n\n\n\n\n\n\n\n\n\n\n\n\n\n\n\n\n\n\n\n\n\n\n\n\n\n\n\n\n\n\n\n\n\n\n\n	\n\n	\n\nScopul este de a îmbunătăți performanțele\, randamentul și comunicarea angajaților în online si offline\, prin dezvoltarea unor competențe cheie:\n-Încredere în sine\n-Public speaking\n-Controlul emoțiilor\n-Aptitudini socio-comunicaționale\n-Munca în echipă în companie\n-Atenție concentrată și distributivă\n-Managementul conflictului\n\n	\n\n\n\n\n\n\n\n\n\n\n\n\n\n\n\n\n\n\n\n\n\n	\n\n	\n\nRezultatele obținute pentru tine și echipa ta:\nTeam work – deprinderea abilităților necesare pentru a lucra eficient în echipă: flexibilitate\, adaptabilitate în fața provocărilor\, înțelegerea punctelor diferite de vedere etc.\nSelf-empowerment – învățăm care sunt punctele noastre forte\, punctele slabe\, cum să maximizăm raportul efort/rezultate etc.\n  \n\n\n	\n\n\n\n\n\n\n\n\n\n\n\n\n\n\n\n\n\n\n\n\n\n\n\n\n\n\n\n\n\n\n\n\n\n\n\n	 \n\n	\n\nPositive mindset – un factor esențial pentru găsirea celor mai bune și eficiente soluții în business și viața personală.\nEmotional intelligence and time management – dobândirea autocontrolului în plan emoțional și capacitatea de a organiza eficient timpul și activitățile.\n\n	\n\n\n\n\n\n\n\n\n\n\n\n\n\n\n\n\n\n\n\n\n\n	\n\n	\n\nÎn echipa ARTIZ\, suntem dornici să vă susținem în obținerea unui mediu de lucru mai productiv\, creativ și armonios. Contactați-ne și împreună vom crea experiențe de neuitat pentru echipa ta.\n\n\n	\n\n\n\n\n\n\n\n\n\n\n\n\n\n\n\n\n\n\n\n\n\n\n\n\n\n\n\n\n\n\n\n	Contactează-ne\nBrașov\, România \n\n  \n\n\n\n\n\n\n\n\n\n Nume\n \n \n Email\n \n \n Telefon\n \n \n Lasă un Mesaj\n \n \n\n Δ
URL:https://artiz.ro/eveniment/team-building/
LOCATION:Brașov\, România
CATEGORIES:Cursuri Teatru și Improvizație
END:VEVENT
BEGIN:VEVENT
DTSTART;TZID=UTC:20230514T080000
DTEND;TZID=UTC:20230514T170000
DTSTAMP:20260421T131226
CREATED:20230514T091244Z
LAST-MODIFIED:20231027T221829Z
UID:16068-1684051200-1684083600@artiz.ro
SUMMARY:1 to 1 Drama Therapy sessions
DESCRIPTION:În ARTIZ\, oferim sesiuni individuale de terapie prin teatru 1 la 1. Aceste sesiuni de terapie prin teatru sunt concepute pentru a-ți oferi un spațiu sigur și confidențial în care să explorezi și să-ți exprimi emoțiile\, gândurile și experiențele personale prin intermediul artei teatrale. \nCu ajutorul IZEI\, un terapeut calificat în terapia prin teatru\, vei avea oportunitatea de a explora și de a lucra asupra aspectelor personale prin intermediul jocului\, improvizației și a altor tehnici specifice teatrului. Aceste sesiuni individuale se concentrează pe nevoile și obiectivele tale specifice\, oferindu-ți un spațiu dedicat în care să te conectezi cu tine însuți și să-ți descoperi resursele interioare. \nTerapia prin teatru utilizează puterea artei scenice pentru a te ajuta să-ți dezvolți încrederea în sine\, să-ți explorezi și să-ți exprimi emoțiile\, să-ți îmbunătățești abilitățile de comunicare și să-ți dezvolți reziliența emoțională. Prin intermediul jocului și a exercițiilor teatrale\, vei avea oportunitatea de a-ți explora propriile experiențe și de a le traduce într-o formă artistică\, facilitând astfel procesul de autocunoaștere și de vindecare.\nSesiunile de terapie prin teatru cu IZA sunt personalizate în funcție de nevoile și interesele tale. Fie că este vorba despre explorarea unui eveniment traumatic\, gestionarea anxietății sau dezvoltarea abilităților de comunicare\, vei beneficia de un cadru terapeutic creativ și empatic\, în care să-ți exprimi liber și autentic trăirile și să descoperi noi perspective și soluții. \nÎntr-un mediu sigur și sprijinitor\, vei primi ghidare și susținere din partea IZEI\, care îți va oferi instrumentele și tehnicile necesare pentru a-ți explora și a-ți dezvolta potențialul interior. Prin intermediul acestor sesiuni individuale de terapie prin teatru\, vei avea oportunitatea de a-ți elibera emoțiile\, de a-ți descoperi forțele interioare și de a-ți crea un spațiu de creștere personală și transformare. \n\n\n\n\n\n\n\n\n\n\n\n\n\n[cmsmasters_tc_event_tickets shortcode_id=”azslj06gdc” event=”17591″ link=”Adaugă în Coș” type=”Tip Tickete” price=”Preț” cart=”Coș Tickete” quantity=”Qty.” soldout=”Stoc indisponibil.” show_quantity=”true” link_type=”cart” animation_delay=”0″] \n\n\n\n\n\n\n\n\n\n\n\n\n\n\n\n\n\n\n\n	Contactează-ne\nBrașov\, România \n\n  \n\n\n\n\n\n\n\n\n\n Nume\n \n \n Email\n \n \n Telefon\n \n \n Lasă un Mesaj\n \n \n\n Δ
URL:https://artiz.ro/eveniment/1-to-1-drama-therapy-sessions/
CATEGORIES:Cursuri Teatru și Improvizație
END:VEVENT
BEGIN:VEVENT
DTSTART;TZID=UTC:20230514T080000
DTEND;TZID=UTC:20230514T170000
DTSTAMP:20260421T131226
CREATED:20230514T082033Z
LAST-MODIFIED:20231027T222220Z
UID:16034-1684051200-1684083600@artiz.ro
SUMMARY:Cursuri Public Speaking
DESCRIPTION:În ARTIZ\, ne-am angajat să te ajutăm să-ți dezvolți abilitățile de vorbire în public prin intermediul cursurilor noastre de Public Speaking. Indiferent dacă ești un vorbitor începător sau unul experimentat\, cursurile noastre sunt concepute pentru a-ți oferi instrumentele și tehnicile necesare pentru a deveni un vorbitor sigur\, captivant și persuasiv.\nCursurile de Public Speaking îți oferă oportunitatea de a învăța tehnici de comunicare verbală și non-verbală\, astfel încât să poți transmite mesajul tău într-un mod clar și convingător. Vei învăța cum să-ți gestionezi emoțiile\, să-ți îmbunătățești pronunția și modul de exprimare\, să-ți controlezi vocea și să-ți folosești corpul într-un mod eficient pentru a-ți susține discursul. \nPe parcursul cursurilor\, vei avea parte de exerciții practice\, sesiuni de feedback și simulări de discursuri\, sub îndrumarea profesioniștilor noștri în comunicare și vorbire în public. Vei învăța strategii și tehnici pentru a captiva audiența\, a-ți structura discursul în mod coerent și a folosi povestiri și exemple pentru a-ți susține punctele de vedere.\nIndiferent de scopul tău – fie că este vorba despre prezentări în cadrul companiei\, discursuri publice sau interviuri – cursurile noastre de Public Speaking te vor ajuta să dobândești încrederea și abilitățile necesare pentru a te exprima cu claritate și impact în fața oricărei audiențe. \nÎn plus\, vei avea oportunitatea să te conectezi cu alți participanți și să împărtășești experiențe și sfaturi într-un mediu prietenos și încurajator. Cursurile noastre sunt concepute pentru a-ți oferi un spațiu sigur și confortabil în care să-ți dezvolți abilitățile și să te simți încrezător în capacitatea ta de a vorbi în public. \n  \n\n\n\n\n\n\n\n\n\n\n\n\n\n[cmsmasters_tc_event_tickets shortcode_id=”eevo2qxe4e” event=”17591″ link=”Adaugă în Coș” type=”Tip Tickete” price=”Preț” cart=”Coș Tickete” quantity=”Qty.” soldout=”Stoc indisponibil.” show_quantity=”true” link_type=”cart” animation_delay=”0″] \n\n\n\n\n\n\n\n\n\n\n\n\n\n\n\n\n\n\n\n	Contactează-ne\nBrașov\, România \n\n  \n\n\n\n\n\n\n\n\n\n Nume\n \n \n Email\n \n \n Telefon\n \n \n Lasă un Mesaj\n \n \n\n Δ
URL:https://artiz.ro/eveniment/cursuri-public-speaking/
CATEGORIES:Cursuri Teatru și Improvizație
END:VEVENT
BEGIN:VEVENT
DTSTART;TZID=UTC:20230514T080000
DTEND;TZID=UTC:20230514T170000
DTSTAMP:20260421T131226
CREATED:20230514T081935Z
LAST-MODIFIED:20231027T222159Z
UID:16032-1684051200-1684083600@artiz.ro
SUMMARY:Cursuri dicție
DESCRIPTION:În ARTIZ\, oferim cursuri specializate de dicție pentru a te ajuta să îți dezvolți abilitățile de comunicare și să-ți îmbunătățești claritatea și fluiditatea vorbirii.\nCursurile noastre de dicție sunt concepute pentru a dobândi o pronunție corectă\, să-ți îmbunătățești modul de articulare și să-ți dezvolți încrederea în propria ta voce. \nSub îndrumarea profesioniștilor noștri\, vei învăța tehnici și exerciții practice pentru a exersa și îmbunătăți pronunția\, intonația și ritmul vorbirii. Vei învăța cum să articulezi corect sunetele și cuvintele\, astfel încât să fii înțeles cu ușurință și să comunici cu impact.\nÎn plus\, vei primi feedback și îndrumare personalizată din partea instructorului nostru pentru a-ți îmbunătăți în continuare abilitățile de dicție. Vei primi sfaturi practice și exerciții de încălzire vocală\, care te vor ajuta să-ți menții vocea în formă și să eviți eventualele tensiuni sau oboseală vocală. \nCursurile noastre de dicție sunt potrivite pentru oricine dorește să-și îmbunătățească comunicarea verbală\, indiferent de nivelul de experiență sau de domeniul în care activează. Fie că ești profesionist în domeniul vorbitului în public\, actor în devenire sau pur și simplu îți dorești să devii mai sigur în exprimarea ta verbală\, aceste cursuri îți vor oferi instrumentele necesare pentru a-ți atinge obiectivele. \n\n\n\n\n\n\n\n\n\n\n\n\n\n[cmsmasters_tc_event_tickets shortcode_id=”1znoundqke” event=”17591″ link=”Adaugă în Coș” type=”Tip Tickete” price=”Preț” cart=”Coș Tickete” quantity=”Qty.” soldout=”Stoc indisponibil.” show_quantity=”true” link_type=”cart” animation_delay=”0″] \n\n\n\n\n\n\n\n\n\n\n\n\n\n\n\n\n\n\n\n	Contactează-ne\nBrașov\, România \n\n  \n\n\n\n\n\n\n\n\n\n Nume\n \n \n Email\n \n \n Telefon\n \n \n Lasă un Mesaj\n \n \n\n Δ
URL:https://artiz.ro/eveniment/cursuri-dictie/
CATEGORIES:Cursuri Teatru și Improvizație
END:VEVENT
BEGIN:VEVENT
DTSTART;TZID=UTC:20230514T080000
DTEND;TZID=UTC:20230514T170000
DTSTAMP:20260421T131226
CREATED:20230514T081410Z
LAST-MODIFIED:20231027T222131Z
UID:16026-1684051200-1684083600@artiz.ro
SUMMARY:Artsy Weekend Getaway
DESCRIPTION:În ARTIZ\, îți oferim o experiență de neuitat prin cursul nostru de teatru Getaway. Acesta este un curs conceput pentru a-ți permite să te rupi de rutina zilnică și să te dedici în totalitate pasiunii tale pentru teatru. \nCursul de teatru Getaway îți oferă ocazia să te retragi într-un mediu inspirator și relaxant\, în care să explorezi și să-ți dezvolți abilitățile actoricești alături de alți entuziaști ai teatrului. Indiferent de nivelul tău de experiență în teatru\, acest curs îți oferă instrumentele și cunoștințele necesare pentru a-ți îmbunătăți abilitățile și a-ți extinde orizonturile în interpretarea scenică. Pe durata cursului\, vei avea parte de workshop-uri interactive\, exerciții practice și sesiuni de improvizație\, toate conduse de către artiști profesioniști\, pasionați de arta teatrală. Vei învăța despre construirea personajului\, exprimarea emoțiilor\, comunicarea scenică și multe alte aspecte esențiale ale interpretării teatrale. \nDar\, nu este doar despre învățat și exersat. Cursul de teatru Getaway este conceput și pentru a-ți oferi momente de relaxare și distracție. Vei avea ocazia să socializezi cu ceilalți participanți într-o atmosferă prietenoasă și să îți faci noi prieteni cu aceeași pasiune pentru teatru. De asemenea\, vei avea timp să explorezi frumusețea locației și să te bucuri de un moment de evadare din agitația cotidiană. Indiferent dacă vrei să-ți îmbunătățești abilitățile actoricești\, să-ți descoperi pasiunea pentru teatru sau pur și simplu să petreci un timp de calitate într-un mediu creativ\, cursul de teatru Getaway este alegerea perfectă pentru tine. \n\n\n\n\n\n\n\n\n\n\n\n\n\n[cmsmasters_tc_event_tickets shortcode_id=”85rdm1oecm” event=”17591″ link=”Adaugă în Coș” type=”Tip Tickete” price=”Preț” cart=”Coș Tickete” quantity=”Qty.” soldout=”Stoc indisponibil.” show_quantity=”true” link_type=”cart” animation_delay=”0″] \n\n\n\n\n\n\n\n\n\n\n\n\n\n\n\n\n\n\n\n	Contactează-ne\nBrașov\, România \n\n  \n\n\n\n\n\n\n\n\n\n Nume\n \n \n Email\n \n \n Telefon\n \n \n Lasă un Mesaj\n \n \n\n Δ
URL:https://artiz.ro/eveniment/artsy-weekend-getaway/
CATEGORIES:Cursuri Teatru și Improvizație
END:VEVENT
BEGIN:VEVENT
DTSTART;TZID=UTC:20230514T080000
DTEND;TZID=UTC:20230514T170000
DTSTAMP:20260421T131226
CREATED:20230514T081248Z
LAST-MODIFIED:20231027T222110Z
UID:16024-1684051200-1684083600@artiz.ro
SUMMARY:Curs Teatru
DESCRIPTION:Descoperă arta teatrului și a improvizației într-un workshop captivant alături de noi! Cu ARTIZ ai oportunitatea de a explora și dezvolta abilitățile tale actoricești\, de a te exprima liber și de a te bucura de procesul creativ al teatrului. \nWorkshop-ul nostru este conceput pentru orice nivel de experiență. Indiferent că nu ai experiență\, dar pur și simplu îți dorești să îți dezvolți abilitățile de comunicare și improvizație\, acest workshop îți oferă instrumentele necesare pentru a te exprima într-un mod autentic și captivant. \nÎn cadrul acestui workshop interactiv și dinamic\, vei fi ghidat de artiști profesioniști într-un proces de învățare plin de distracție și provocări. Vei explora tehnici de actorie\, vei învăța cum să improvizezi și să te adaptezi la situații neașteptate\, și vei descoperi puterea exprimării tale personale prin arta teatrală. \nFiecare workshop este adaptat nevoilor și intereselor tale\, astfel încât să te simți confortabil și încurajat să îți dezvolți creativitatea. Vei avea ocazia să lucrezi în echipă\, să îți descoperi propriul stil și să explorezi diverse tehnici și exerciții teatrale care îți vor permite să te conectezi cu emoțiile tale și să-ți dezvolți abilitățile de comunicare non-verbală și verbală. \nÎntr-un mediu prietenos și relaxat\, vei avea ocazia să te conectezi cu alți participanți\, să împărtășești idei și să te inspiri reciproc. Workshop-ul nostru este un loc unde poți explora\, învăța și crește ca artist și persoană. Haide să începem această călătorie teatrală împreună și să descoperim magia și bucuria teatrului. Așteptăm cu nerăbdare să te avem alături la workshop-ului nostru de teatru și improvizație! \n  \n\n\n\n\n\n\n\n\n\n\n\n\n\n[cmsmasters_tc_event_tickets shortcode_id=”mew1dsgdet” event=”17591″ link=”Adaugă în Coș” type=”Tip Tickete” price=”Preț” cart=”Coș Tickete” quantity=”Qty.” soldout=”Stoc indisponibil.” show_quantity=”true” link_type=”cart” animation_delay=”0″] \n\n\n\n\n\n\n\n\n\n\n\n\n\n\n\n\n\n\n\n	Contactează-ne\nBrașov\, România \n\n  \n\n\n\n\n\n\n\n\n\n Nume\n \n \n Email\n \n \n Telefon\n \n \n Lasă un Mesaj\n \n \n\n Δ
URL:https://artiz.ro/eveniment/curs-teatru/
CATEGORIES:Cursuri Teatru și Improvizație
END:VEVENT
BEGIN:VEVENT
DTSTART;TZID=UTC:20230514T080000
DTEND;TZID=UTC:20230514T170000
DTSTAMP:20260421T131226
CREATED:20230514T081041Z
LAST-MODIFIED:20231027T222046Z
UID:16022-1684051200-1684083600@artiz.ro
SUMMARY:Workshop teatru și improvizație
DESCRIPTION:Fiecare seară de la 7pm este o ocazie unică de a te relaxa\, de a-ți pune abilitățile la încercare și de a cunoaște oameni minunați. \n\n\n	\n\n\n\n\n\n\n\n\n\n\n\n\n\n\n\n\n\n\n\n\n\n	 \n\n	\n\nLasă-te purtat de emoția și entuziasmul unei experiențe memorabile\, în care vei întâlni persoane fascinante\n\n\n	\n\n\n\n\n\n\n\n\n\n\n\n\n\n\n\n\n\n\n\n\n\n\n\n\n\n\n\n\n\n\n\n\n\n\n\n	\n\n	\n\nDescoperă aromele fine ale vinurilor deosebite și împărtășește momente de veselie și conexiune într-un cadru exclusiv pentru doamne. \n\n	\n\n\n\n\n\n\n\n\n\n\n\n\n\n\n\n\n\n\n\n\n\n	\n\n	\n\nIndiferent dacă ești un strateg priceput sau pur și simplu vrei să te distrezi cu prietenii\, Game Shows îți oferă momente de adrenalină și amuzament garantat.\n\n\n	\n\n\n\n\n\n\n\n\n\n\n\n\n\n\n\n\n\n\n\n\n\n\n\n\n\n\n\n\n\n\n\n\n\n\n\n	 \n\n	\n\nFii pregătit să îți explorezi latura artistică\, să dansezi\, să cânți și să te distrezi alături de tematici variate\, transformând momentele în amintiri de neuitat.\n\n	\n\n\n\n\n\n\n\n\n\n\n\n\n\n\n\n\n\n\n\n\n\n	 \n\n	\n\nFie că te bucuri de un spectacol de teatru impresionant sau de un show de cabaret cu dansatori seducători\, Artiz îți oferă o experiență artistică unică. \n\n\n	\n\n\n\n\n\n\n\n\n\n\n\n\n\n\n\n\n\n\n\n\n\n\n\n\n\n\n\n\n\n\n\n\n\n\n\n	\n\n	\n\nFie că vă doriți o experiență plină de farmec și eleganță sau un party energic și plin de viață\, Artiz va transforma petrecerea voastră de burlăcițe într-un eveniment memorabil și unic.\n\n	\n\n\n\n\n\n\n\n\n\n\n\n\n\n\n\n\n\n\n\n\n\n	\n\n	\n\nMomente pline de emoție și  surprize alături de familie și cei dragi.\n\n\n	\n\n\n\n\n\n\n\n\n\n\n\n\n\n\n\n\n\n\n\n\n\n\n\n\n\n\n\n\n[cmsmasters_tc_event_tickets shortcode_id=”t7mvrqz2q7″ event=”17591″ link=”Adaugă în Coș” type=”Tip Tickete” price=”Preț” cart=”Coș Tickete” quantity=”Qty.” soldout=”Stoc indisponibil.” show_quantity=”true” link_type=”cart” animation_delay=”0″] \n\n\n\n\n\n\n\n\n\n\n\n\n\n\n\n\n\n\n\n	Contactează-ne\nBrașov\, România \n\n  \n\n\n\n\n\n\n\n\n\n Nume\n \n \n Email\n \n \n Telefon\n \n \n Lasă un Mesaj\n \n \n\n Δ
URL:https://artiz.ro/eveniment/workshop-teatru-si-improvizatie/
CATEGORIES:Cursuri Teatru și Improvizație
END:VEVENT
END:VCALENDAR